BEGIN:VCALENDAR
VERSION:2.0
PRODID:-//Радиообъединение Vadantzhog - ECPv6.15.20//NONSGML v1.0//EN
CALSCALE:GREGORIAN
METHOD:PUBLISH
X-WR-CALNAME:Радиообъединение Vadantzhog
X-ORIGINAL-URL:https://vadantzhog.ru
X-WR-CALDESC:Мероприятия для Радиообъединение Vadantzhog
REFRESH-INTERVAL;VALUE=DURATION:PT1H
X-Robots-Tag:noindex
X-PUBLISHED-TTL:PT1H
BEGIN:VTIMEZONE
TZID:Europe/Moscow
BEGIN:STANDARD
TZOFFSETFROM:+0300
TZOFFSETTO:+0300
TZNAME:MSK
DTSTART:20250101T000000
END:STANDARD
END:VTIMEZONE
BEGIN:VEVENT
DTSTART;TZID=Europe/Moscow:20260424T000000
DTEND;TZID=Europe/Moscow:20260424T235959
DTSTAMP:20260426T060053
CREATED:20260424T191410Z
LAST-MODIFIED:20260425T143609Z
UID:40-1776988800-1777075199@vadantzhog.ru
SUMMARY:Перенастройка сайта радиообъединения Vadantzhog
DESCRIPTION:Всем привет! В этот день мы обнаружили возвращение нормального состояния соединения интернета в районе Струги Красные Псковской области
URL:https://vadantzhog.ru/event/%d0%bf%d0%b5%d1%80%d0%b5%d0%bd%d0%b0%d1%81%d1%82%d1%80%d0%be%d0%b9%d0%ba%d0%b0-%d1%81%d0%b0%d0%b9%d1%82%d0%b0-%d1%80%d0%b0%d0%b4%d0%b8%d0%be%d0%be%d0%b1%d1%8a%d0%b5%d0%b4%d0%b8%d0%bd%d0%b5%d0%bd%d0%b8/
CATEGORIES:События радиообъединения Vadantzhog
END:VEVENT
END:VCALENDAR