BEGIN:VCALENDAR
VERSION:2.0
PRODID:-//Радиообъединение Vadantzhog - ECPv6.15.20//NONSGML v1.0//EN
CALSCALE:GREGORIAN
METHOD:PUBLISH
X-WR-CALNAME:Радиообъединение Vadantzhog
X-ORIGINAL-URL:https://vadantzhog.ru
X-WR-CALDESC:Мероприятия для Радиообъединение Vadantzhog
REFRESH-INTERVAL;VALUE=DURATION:PT1H
X-Robots-Tag:noindex
X-PUBLISHED-TTL:PT1H
BEGIN:VTIMEZONE
TZID:Europe/Moscow
BEGIN:STANDARD
TZOFFSETFROM:+0300
TZOFFSETTO:+0300
TZNAME:MSK
DTSTART:20240101T000000
END:STANDARD
END:VTIMEZONE
BEGIN:VEVENT
DTSTART;TZID=Europe/Moscow:20251113T170000
DTEND;TZID=Europe/Moscow:20251113T170000
DTSTAMP:20260426T071242
CREATED:20251113T140024Z
LAST-MODIFIED:20260425T143637Z
UID:66-1763053200-1763053200@vadantzhog.ru
SUMMARY:Самый ужасный момент с интернетом
DESCRIPTION:В это время и в этот день в доме проживания руководителя радиобъединения Vadantzhog Вадима Антоновича Жоота произошло расслабление мобильного источника интернета\, отчего на 5 месяцев и 10 суток невозможно было что то делать в интернете\, в частности редактировать и прослушивать радио.
URL:https://vadantzhog.ru/event/%d1%81%d0%b0%d0%bc%d1%8b%d0%b9-%d1%83%d0%b6%d0%b0%d1%81%d0%bd%d1%8b%d0%b9-%d0%bc%d0%be%d0%bc%d0%b5%d0%bd%d1%82-%d1%81-%d0%b8%d0%bd%d1%82%d0%b5%d1%80%d0%bd%d0%b5%d1%82%d0%be%d0%bc/
CATEGORIES:События радиообъединения Vadantzhog
END:VEVENT
END:VCALENDAR